BEGIN:VCALENDAR
VERSION:2.0
PRODID:-//Plone.org//NONSGML plone.app.event//EN
X-WR-TIMEZONE:America/Sao_Paulo
BEGIN:VEVENT
SUMMARY:Sessão Ordinária
DTSTART;TZID=America/Sao_Paulo;VALUE=DATE-TIME:20180206T180000
DTEND;TZID=America/Sao_Paulo;VALUE=DATE-TIME:20180206T220000
DTSTAMP;VALUE=DATE-TIME:20260425T195752Z
UID:6e33ad397053486996b96c45d35f7cf8@191.253.38.26:8280
CREATED;VALUE=DATE-TIME:20180121T171345Z
LAST-MODIFIED;VALUE=DATE-TIME:20191120T061500Z
LOCATION:Plenário
URL:https://www.ibitinga.sp.leg.br/imprensa/agenda-de-eventos/sessao-ordin
 aria
END:VEVENT
BEGIN:VTIMEZONE
TZID:America/Sao_Paulo
X-LIC-LOCATION:America/Sao_Paulo
BEGIN:DAYLIGHT
DTSTART;VALUE=DATE-TIME:20171015T010000
TZNAME:-02
TZOFFSETFROM:-0300
TZOFFSETTO:-0200
END:DAYLIGHT
END:VTIMEZONE
END:VCALENDAR
